BEGIN:VCALENDAR
VERSION:2.0
PRODID:-//ChamberMaster//Event Calendar 2.0//EN
METHOD:PUBLISH
X-PUBLISHED-TTL:P1H
REFRESH-INTERVAL:P1H
CALSCALE:GREGORIAN
BEGIN:VTIMEZONE
TZID:America/New_York
BEGIN:DAYLIGHT
RRULE:FREQ=YEARLY;BYMONTH=3;BYDAY=2SU
DTSTART:20070101T000000
TZOFFSETFROM:-0500
TZOFFSETTO:-0400
TZNAME:Eastern Daylight Time
END:DAYLIGHT
BEGIN:STANDARD
RRULE:FREQ=YEARLY;BYMONTH=11;BYDAY=1SU
DTSTART:20070101T000000
TZOFFSETFROM:-0400
TZOFFSETTO:-0500
TZNAME:Eastern Standard Time
END:STANDARD
END:VTIMEZONE
BEGIN:VEVENT
DTSTART;TZID=America/New_York:20260509T180000
DTEND;TZID=America/New_York:20260509T230000
X-MICROSOFT-CDO-ALLDAYEVENT:FALSE
SUMMARY:AutismUp Soar Together Gala
DESCRIPTION:SOAR TOGETHER\nAutismUp's Annual Spring Gala\nA Celebration of Collective MovementYou are warmly invited to an evening that celebrates the power of community\, shared purpose\, and the momentum we create when we move forward together.At AutismUp\, we see every day how individuals\, families\, educators\, employers\, and supporters align to open doors\, build confidence\, and create meaningful opportunity across the autism journey.Join us as we gather to honor this collective movement   and the lift it creates for thousands in our community.Cocktail Attire\nDinner   Program   Silent & Live Auctions   EntertainmentTogether\, we align.\nTogether\, we rise.\nTogether\, we soar.
X-ALT-DESC;FMTTYPE=text/html:<!DOCTYPE html><html><head><title></title></head><body aria-disabled="false"><p><meta charset="utf-8"></p><p data-end="379" data-start="287" style="margin: 0px 0px 15px\; padding: 0px\; box-sizing: inherit\; -webkit-font-smoothing: antialiased\; color: rgb(26\, 26\, 26)\; font-family: Mulish\, Arial\, Helvetica\, sans-serif\; font-style: normal\; font-variant-ligatures: normal\; font-variant-caps: normal\; font-weight: 400\; letter-spacing: normal\; orphans: 2\; text-align: left\; text-indent: 0px\; text-transform: none\; widows: 2\; word-spacing: 0px\; -webkit-text-stroke-width: 0px\; white-space: normal\; text-decoration-thickness: initial\; text-decoration-style: initial\; text-decoration-color: initial\; font-size: 22px\;"><span style="margin: 0px\; padding: 0px\; box-sizing: inherit\; -webkit-font-smoothing: antialiased\; display: inline\; text-decoration: inherit\; font-size: 18px\;"><strong data-end="304" data-start="287" fr-original-style="margin: 0px\; padding: 0px\; box-sizing: inherit\; -webkit-font-smoothing: antialiased\;" style="margin: 0px\; padding: 0px\; box-sizing: inherit\; -webkit-font-smoothing: antialiased\; font-weight: 700\;">SOAR TOGETHER</strong><br data-end="307" data-start="304" style="margin: 0px\; padding: 0px\; box-sizing: inherit\; -webkit-font-smoothing: antialiased\;"><em data-end="338" data-start="307" style="margin: 0px\; padding: 0px\; box-sizing: inherit\; -webkit-font-smoothing: antialiased\;">AutismUp&rsquo\;s Annual Spring Gala</em><br data-end="341" data-start="338" style="margin: 0px\; padding: 0px\; box-sizing: inherit\; -webkit-font-smoothing: antialiased\;"><em data-end="379" data-start="341" style="margin: 0px\; padding: 0px\; box-sizing: inherit\; -webkit-font-smoothing: antialiased\;">A Celebration of Collective Movement</em></span></p><p data-end="531" data-start="381" style="margin: 0px 0px 15px\; padding: 0px\; box-sizing: inherit\; -webkit-font-smoothing: antialiased\; color: rgb(26\, 26\, 26)\; font-family: Mulish\, Arial\, Helvetica\, sans-serif\; font-style: normal\; font-variant-ligatures: normal\; font-variant-caps: normal\; font-weight: 400\; letter-spacing: normal\; orphans: 2\; text-align: left\; text-indent: 0px\; text-transform: none\; widows: 2\; word-spacing: 0px\; -webkit-text-stroke-width: 0px\; white-space: normal\; text-decoration-thickness: initial\; text-decoration-style: initial\; text-decoration-color: initial\; font-size: 22px\;"><span style="margin: 0px\; padding: 0px\; box-sizing: inherit\; -webkit-font-smoothing: antialiased\; display: inline\; text-decoration: inherit\; font-size: 18px\;">You are warmly invited to an evening that celebrates the power of community\, shared purpose\, and the momentum we create when we move forward together.</span></p><p data-end="726" data-start="533" style="margin: 0px 0px 15px\; padding: 0px\; box-sizing: inherit\; -webkit-font-smoothing: antialiased\; color: rgb(26\, 26\, 26)\; font-family: Mulish\, Arial\, Helvetica\, sans-serif\; font-style: normal\; font-variant-ligatures: normal\; font-variant-caps: normal\; font-weight: 400\; letter-spacing: normal\; orphans: 2\; text-align: left\; text-indent: 0px\; text-transform: none\; widows: 2\; word-spacing: 0px\; -webkit-text-stroke-width: 0px\; white-space: normal\; text-decoration-thickness: initial\; text-decoration-style: initial\; text-decoration-color: initial\; font-size: 22px\;"><span style="margin: 0px\; padding: 0px\; box-sizing: inherit\; -webkit-font-smoothing: antialiased\; display: inline\; text-decoration: inherit\; font-size: 18px\;">At AutismUp\, we see every day how individuals\, families\, educators\, employers\, and supporters align to open doors\, build confidence\, and create meaningful opportunity across the autism journey.</span></p><p data-end="840" data-start="728" style="margin: 0px 0px 15px\; padding: 0px\; box-sizing: inherit\; -webkit-font-smoothing: antialiased\; color: rgb(26\, 26\, 26)\; font-family: Mulish\, Arial\, Helvetica\, sans-serif\; font-style: normal\; font-variant-ligatures: normal\; font-variant-caps: normal\; font-weight: 400\; letter-spacing: normal\; orphans: 2\; text-align: left\; text-indent: 0px\; text-transform: none\; widows: 2\; word-spacing: 0px\; -webkit-text-stroke-width: 0px\; white-space: normal\; text-decoration-thickness: initial\; text-decoration-style: initial\; text-decoration-color: initial\; font-size: 22px\;"><span style="margin: 0px\; padding: 0px\; box-sizing: inherit\; -webkit-font-smoothing: antialiased\; display: inline\; text-decoration: inherit\; font-size: 18px\;">Join us as we gather to honor this collective movement &mdash\; and the lift it creates for thousands in our community.</span></p><p data-end="930" data-start="881" style="margin: 0px 0px 15px\; padding: 0px\; box-sizing: inherit\; -webkit-font-smoothing: antialiased\; color: rgb(26\, 26\, 26)\; font-family: Mulish\, Arial\, Helvetica\, sans-serif\; font-style: normal\; font-variant-ligatures: normal\; font-variant-caps: normal\; font-weight: 400\; letter-spacing: normal\; orphans: 2\; text-align: left\; text-indent: 0px\; text-transform: none\; widows: 2\; word-spacing: 0px\; -webkit-text-stroke-width: 0px\; white-space: normal\; text-decoration-thickness: initial\; text-decoration-style: initial\; text-decoration-color: initial\; font-size: 22px\;"><span style="margin: 0px\; padding: 0px\; box-sizing: inherit\; -webkit-font-smoothing: antialiased\; display: inline\; text-decoration: inherit\; font-size: 18px\;">Cocktail Attire<br data-end="899" data-start="896" style="margin: 0px\; padding: 0px\; box-sizing: inherit\; -webkit-font-smoothing: antialiased\;">Dinner &bull\; Program &bull\; Silent &amp\; Live Auctions &bull\; Entertainment</span></p><p data-end="997" data-start="932" style="margin: 0px 0px 15px\; padding: 0px\; box-sizing: inherit\; -webkit-font-smoothing: antialiased\; color: rgb(26\, 26\, 26)\; font-family: Mulish\, Arial\, Helvetica\, sans-serif\; font-style: normal\; font-variant-ligatures: normal\; font-variant-caps: normal\; font-weight: 400\; letter-spacing: normal\; orphans: 2\; text-align: left\; text-indent: 0px\; text-transform: none\; widows: 2\; word-spacing: 0px\; -webkit-text-stroke-width: 0px\; white-space: normal\; text-decoration-thickness: initial\; text-decoration-style: initial\; text-decoration-color: initial\; font-size: 22px\;"><span style="margin: 0px\; padding: 0px\; box-sizing: inherit\; -webkit-font-smoothing: antialiased\; display: inline\; text-decoration: inherit\; font-size: 18px\;">Together\, we align.<br data-end="954" data-start="951" style="margin: 0px\; padding: 0px\; box-sizing: inherit\; -webkit-font-smoothing: antialiased\;">Together\, we rise.<br data-end="975" data-start="972" style="margin: 0px\; padding: 0px\; box-sizing: inherit\; -webkit-font-smoothing: antialiased\;"></span><strong data-end="997" data-start="975" fr-original-style="margin: 0px\; padding: 0px\; box-sizing: inherit\; -webkit-font-smoothing: antialiased\;" style="margin: 0px\; padding: 0px\; box-sizing: inherit\; -webkit-font-smoothing: antialiased\; font-weight: 700\;"><span style="margin: 0px\; padding: 0px\; box-sizing: inherit\; -webkit-font-smoothing: antialiased\; display: inline\; text-decoration: inherit\; font-size: 18px\;">Together\, we soar.</span></strong></p></body></html>
LOCATION:123 East Main St. Rochester NY 14604
UID:e.2171.1449229
SEQUENCE:3
DTSTAMP:20260423T010405Z
URL:https://my.greaterrochesterchamber.com/communitycalendar/Details/autismup-soar-together-gala-1716545?sourceTypeId=Hub
END:VEVENT
END:VCALENDAR
