BEGIN:VCALENDAR
VERSION:2.0
PRODID:-//ChamberMaster//Event Calendar 2.0//EN
METHOD:PUBLISH
X-PUBLISHED-TTL:P1H
REFRESH-INTERVAL:P1H
CALSCALE:GREGORIAN
BEGIN:VTIMEZONE
TZID:America/New_York
BEGIN:DAYLIGHT
RRULE:FREQ=YEARLY;BYMONTH=3;BYDAY=2SU
DTSTART:20070101T000000
TZOFFSETFROM:-0500
TZOFFSETTO:-0400
TZNAME:Eastern Daylight Time
END:DAYLIGHT
BEGIN:STANDARD
RRULE:FREQ=YEARLY;BYMONTH=11;BYDAY=1SU
DTSTART:20070101T000000
TZOFFSETFROM:-0400
TZOFFSETTO:-0500
TZNAME:Eastern Standard Time
END:STANDARD
END:VTIMEZONE
BEGIN:VEVENT
DTSTART;TZID=America/New_York:20260429T120000
DTEND;TZID=America/New_York:20260429T133000
X-MICROSOFT-CDO-ALLDAYEVENT:FALSE
SUMMARY:Elevate Your Mental Fitness with Clover Insights: Workshop #1
DESCRIPTION:Master the Art of Positivity in Facing Life's ChallengesIn today's fast-paced world\, how we think shapes how we lead and live. Elevate Your Mental Fitness introduces the power of mental fitness and its impact on performance\, relationships\, and overall well-being. In this engaging session\, participants will uncover how negative thought patterns influence daily decision and learn simple\, science-backed techniques to shift their mindset in real time.Attendees will leave with practical tools to build resilience and respond to challenges with greater clarity and confidence!
X-ALT-DESC;FMTTYPE=text/html:<!DOCTYPE html><html><head><title></title></head><body aria-disabled="false"><p>Master the Art of Positivity in Facing Life&#39\;s Challenges</p><hr fr-original-style="" style="clear: both\; user-select: none\; break-after: page\;"><hr fr-original-style="" style="clear: both\; user-select: none\; break-after: page\;"><p>In today&#39\;s fast-paced world\, how we think shapes how we lead and live. Elevate Your Mental Fitness introduces the power of mental fitness and its impact on performance\, relationships\, and overall well-being. In this engaging session\, participants will uncover how negative thought patterns influence daily decision and learn simple\, science-backed techniques to shift their mindset in real time.</p><p>Attendees will leave with practical tools to build resilience and respond to challenges with greater clarity and confidence!</p></body></html>
LOCATION:100 S. Clinton Ave.\, 24th Floor Rochester NY 14604
UID:e.2171.1448026
SEQUENCE:3
DTSTAMP:20260422T231854Z
URL:https://my.greaterrochesterchamber.com/communitycalendar/Details/elevate-your-mental-fitness-with-clover-insights-workshop-1-1714978?sourceTypeId=Hub
END:VEVENT
END:VCALENDAR
