BEGIN:VCALENDAR
VERSION:2.0
PRODID:-//ChamberMaster//Event Calendar 2.0//EN
METHOD:PUBLISH
X-PUBLISHED-TTL:P1H
REFRESH-INTERVAL:P1H
CALSCALE:GREGORIAN
BEGIN:VTIMEZONE
TZID:America/New_York
BEGIN:DAYLIGHT
RRULE:FREQ=YEARLY;BYMONTH=3;BYDAY=2SU
DTSTART:20070101T000000
TZOFFSETFROM:-0500
TZOFFSETTO:-0400
TZNAME:Eastern Daylight Time
END:DAYLIGHT
BEGIN:STANDARD
RRULE:FREQ=YEARLY;BYMONTH=11;BYDAY=1SU
DTSTART:20070101T000000
TZOFFSETFROM:-0400
TZOFFSETTO:-0500
TZNAME:Eastern Standard Time
END:STANDARD
END:VTIMEZONE
BEGIN:VEVENT
DTSTART;TZID=America/New_York:20260501T170000
DTEND;TZID=America/New_York:20260501T190000
X-MICROSOFT-CDO-ALLDAYEVENT:FALSE
SUMMARY:Emily L. Joseph Art Show
DESCRIPTION:Step into a vibrant realm of color\, creativity\, and contemplation at Emily L. Joseph's Art Show\, on the 24th floor at Serendipity Labs.Join us for an evening of abstract art with Emily L. Joseph's collection. Indulge in delicious food\, beer\, and wine as you immerse yourself in the world of her captivating style. Don't miss out on this exciting art show experience.A message from the Artist:Formally trained with a BFA and MFA in Painting. My core belief is the "Object Correlative" technique\, popularized by T.S. Eliot in 1919\, where an artist expresses emotion not directly\, but through a set of objects\, situations\, or events. It acts as a formula for a particular emotion\, evoking the viewer's\, rather than stating the character's\, feelings. This "show\, don't tell"! I DO NOT DICTATE THEE MOTION FOR VIEWERS. IT IS THEIR OWN INTERPRETATION. I have taught and lectured on drawing\, basic design\, Color Theoryand papermaking. My work has exhibited both in the states and Europe.
X-ALT-DESC;FMTTYPE=text/html:<!DOCTYPE html><html><head><title></title></head><body aria-disabled="false"><div data-testid="text-content" style='box-sizing: border-box\; padding: 0px\; margin: 0px\; color: rgb(88\, 81\, 99)\; align-self: stretch\; overflow: hidden\; text-overflow: ellipsis\; font-weight: 400\; line-height: 23.94px\; letter-spacing: 0.1px\; font-size: 18px\; font-family: "Neue Plak"\, -apple-system\, BlinkMacSystemFont\, Roboto\, "Helvetica Neue"\, Helvetica\, Tahoma\, Arial\, sans-serif\; font-style: normal\; font-variant-ligatures: normal\; font-variant-caps: normal\; orphans: 2\; text-align: start\; text-indent: 0px\; text-transform: none\; widows: 2\; word-spacing: 0px\; -webkit-text-stroke-width: 0px\; white-space: normal\; text-decoration-thickness: initial\; text-decoration-style: initial\; text-decoration-color: initial\;'><div style="box-sizing: border-box\; padding: 0px\; margin: 0px\;"><p style="box-sizing: border-box\; padding: 0px 0px 12px\; margin: 0px\;">Step into a vibrant realm of color\, creativity\, and contemplation at Emily L. Joseph&#39\;s Art Show\, on the 24th floor at Serendipity Labs.</p></div></div><div data-testid="text-content" style='box-sizing: border-box\; padding: 0px\; margin: 0px\; color: rgb(88\, 81\, 99)\; align-self: stretch\; overflow: hidden\; text-overflow: ellipsis\; font-weight: 400\; line-height: 23.94px\; letter-spacing: 0.1px\; font-size: 18px\; font-family: "Neue Plak"\, -apple-system\, BlinkMacSystemFont\, Roboto\, "Helvetica Neue"\, Helvetica\, Tahoma\, Arial\, sans-serif\; font-style: normal\; font-variant-ligatures: normal\; font-variant-caps: normal\; orphans: 2\; text-align: start\; text-indent: 0px\; text-transform: none\; widows: 2\; word-spacing: 0px\; -webkit-text-stroke-width: 0px\; white-space: normal\; text-decoration-thickness: initial\; text-decoration-style: initial\; text-decoration-color: initial\;'><div style="box-sizing: border-box\; padding: 0px\; margin: 0px\;"><p style="box-sizing: border-box\; padding: 0px 0px 12px\; margin: 0px\;">Join us for an evening of abstract art with Emily L. Joseph&#39\;s collection. Indulge in delicious food\, beer\, and wine as you immerse yourself in the world of her captivating style. Don&#39\;t miss out on this exciting art show experience.</p><p style="box-sizing: border-box\; padding: 0px 0px 12px\; margin: 12px 0px 0px\;">A message from the Artist:</p><p style="box-sizing: border-box\; padding: 0px 0px 12px\; margin: 12px 0px 0px\;">Formally trained with a BFA and MFA in Painting. My core belief is the &quot\;Object Correlative&quot\; technique\, popularized by T.S. Eliot in 1919\, where an artist expresses emotion not directly\, but through a set of objects\, situations\, or events. It acts as a formula for a particular emotion\, evoking the viewer&#39\;s\, rather than stating the character&#39\;s\, feelings. This &quot\;show\, don&#39\;t tell&quot\;! I DO NOT DICTATE THEE MOTION FOR VIEWERS. IT IS THEIR OWN INTERPRETATION. I have taught and lectured on drawing\, basic design\, Color Theoryand papermaking. My work has exhibited both in the states and Europe.</p></div></div></body></html>
LOCATION:100 S. Clinton Ave.\, 24th Floor Rochester NY 14604
UID:e.2171.1448030
SEQUENCE:3
DTSTAMP:20260422T231656Z
URL:https://my.greaterrochesterchamber.com/communitycalendar/Details/emily-l-joseph-art-show-1714982?sourceTypeId=Hub
END:VEVENT
END:VCALENDAR
