BEGIN:VCALENDAR
VERSION:2.0
PRODID:-//ChamberMaster//Event Calendar 2.0//EN
METHOD:PUBLISH
X-PUBLISHED-TTL:P1H
REFRESH-INTERVAL:P1H
CALSCALE:GREGORIAN
BEGIN:VTIMEZONE
TZID:America/New_York
BEGIN:DAYLIGHT
RRULE:FREQ=YEARLY;BYMONTH=3;BYDAY=2SU
DTSTART:20070101T000000
TZOFFSETFROM:-0500
TZOFFSETTO:-0400
TZNAME:Eastern Daylight Time
END:DAYLIGHT
BEGIN:STANDARD
RRULE:FREQ=YEARLY;BYMONTH=11;BYDAY=1SU
DTSTART:20070101T000000
TZOFFSETFROM:-0400
TZOFFSETTO:-0500
TZNAME:Eastern Standard Time
END:STANDARD
END:VTIMEZONE
BEGIN:VEVENT
DTSTART;VALUE=DATE:20260527
DTEND;VALUE=DATE:20260528
TRANSP:TRANSPARENT
X-MICROSOFT-CDO-ALLDAYEVENT:TRUE
SUMMARY:Manufacturing Workforce Development Summit
DESCRIPTION:The Workforce Development Summit is a free\, one‑day conference exploring solutions to two of the most pressing challenges in industry: Building and sustaining a skilled workforce\, and developing a supply chain capable of meeting the growing demands of the semiconductor and defense sector. Opportunities and resources for new revenue and new product development will also be shared.This event brings together manufacturers of all sizes and specialties (including startups manufacturing hardware) with peers\, community partners\, educators\, and subject matter experts to discover strategies that will help your business grow and adapt. Lunch will be provided.
X-ALT-DESC;FMTTYPE=text/html:<!DOCTYPE html><html><head><title></title></head><body aria-disabled="false"><p style='box-sizing: border-box\; padding: 0px 0px 12px\; margin: 0px\; color: rgb(88\, 81\, 99)\; font-family: "Neue Plak"\, -apple-system\, BlinkMacSystemFont\, Roboto\, "Helvetica Neue"\, Helvetica\, Tahoma\, Arial\, sans-serif\; font-size: 18px\; font-style: normal\; font-variant-ligatures: normal\; font-variant-caps: normal\; font-weight: 400\; letter-spacing: 0.1px\; orphans: 2\; text-align: start\; text-indent: 0px\; text-transform: none\; widows: 2\; word-spacing: 0px\; -webkit-text-stroke-width: 0px\; white-space: normal\; text-decoration-thickness: initial\; text-decoration-style: initial\; text-decoration-color: initial\;'>The Workforce Development Summit is a free\, one‑day conference exploring solutions to two of the most pressing challenges in industry: Building and sustaining a skilled workforce\, and developing a supply chain capable of meeting the growing demands of the semiconductor and defense sector. Opportunities and resources for new revenue and new product development will also be shared.</p><p style='box-sizing: border-box\; padding: 0px 0px 12px\; margin: 12px 0px 0px\; color: rgb(88\, 81\, 99)\; font-family: "Neue Plak"\, -apple-system\, BlinkMacSystemFont\, Roboto\, "Helvetica Neue"\, Helvetica\, Tahoma\, Arial\, sans-serif\; font-size: 18px\; font-style: normal\; font-variant-ligatures: normal\; font-variant-caps: normal\; font-weight: 400\; letter-spacing: 0.1px\; orphans: 2\; text-align: start\; text-indent: 0px\; text-transform: none\; widows: 2\; word-spacing: 0px\; -webkit-text-stroke-width: 0px\; white-space: normal\; text-decoration-thickness: initial\; text-decoration-style: initial\; text-decoration-color: initial\;'>This event brings together manufacturers of all sizes and specialties (including startups manufacturing hardware) with peers\, community partners\, educators\, and subject matter experts to discover strategies that will help your business grow and adapt. Lunch will be provided.</p></body></html>
LOCATION:260 East Main Street Suite 6000 Rochester
UID:e.2171.1448353
SEQUENCE:3
DTSTAMP:20260422T233141Z
URL:https://my.greaterrochesterchamber.com/communitycalendar/Details/manufacturing-workforce-development-summit-1715353?sourceTypeId=Hub
END:VEVENT
END:VCALENDAR
