BEGIN:VCALENDAR
VERSION:2.0
PRODID:-//ChamberMaster//Event Calendar 2.0//EN
METHOD:PUBLISH
X-PUBLISHED-TTL:P1H
REFRESH-INTERVAL:P1H
CALSCALE:GREGORIAN
BEGIN:VTIMEZONE
TZID:America/New_York
BEGIN:DAYLIGHT
RRULE:FREQ=YEARLY;BYMONTH=3;BYDAY=2SU
DTSTART:20070101T000000
TZOFFSETFROM:-0500
TZOFFSETTO:-0400
TZNAME:Eastern Daylight Time
END:DAYLIGHT
BEGIN:STANDARD
RRULE:FREQ=YEARLY;BYMONTH=11;BYDAY=1SU
DTSTART:20070101T000000
TZOFFSETFROM:-0400
TZOFFSETTO:-0500
TZNAME:Eastern Standard Time
END:STANDARD
END:VTIMEZONE
BEGIN:VEVENT
DTSTART;TZID=America/New_York:20260521T163000
DTEND;TZID=America/New_York:20260521T193000
X-MICROSOFT-CDO-ALLDAYEVENT:FALSE
SUMMARY:Raise a Glass for a Great Cause
DESCRIPTION:Raise a glass for a great cause at Flight Wine Bar Thursday\, May 21 4:30 7:30 PM. https://www.facebook.com/events/1837994786866640Join the RIT Tiger Pride team for a fundraiser where 20% of all sales will be donated to the American Heart Association\, supporting lifesaving heart health research.Enjoy wine on our beautiful patio\, sip with purpose\, and make a meaningful impact with every glass.
X-ALT-DESC;FMTTYPE=text/html:<!DOCTYPE html><html><head><title></title></head><body aria-disabled="false"><p dir="ltr" style="line-height: 1.656\; text-align: left\; background-color: rgb(255\, 255\, 255)\; margin-top: 12pt\; margin-bottom: 0pt\; padding: 0pt 0pt 12pt\;"><span style="font-size:11pt\;font-family:Arial\,sans-serif\;color:#000000\;background-color:transparent\;font-weight:400\;font-style:normal\;font-variant:normal\;text-decoration:none\;vertical-align:baseline\;white-space:pre\;white-space:pre-wrap\;">Raise a glass for a great cause at Flight Wine Bar&nbsp\;</span></p><p dir="ltr" style="line-height: 1.656\; text-align: left\; background-color: rgb(255\, 255\, 255)\; margin-top: 0pt\; margin-bottom: 0pt\; padding: 0pt 0pt 12pt\;"><span style="font-size:11pt\;font-family:Arial\,sans-serif\;color:#000000\;background-color:transparent\;font-weight:400\;font-style:normal\;font-variant:normal\;text-decoration:none\;vertical-align:baseline\;white-space:pre\;white-space:pre-wrap\;">Thursday\, May 21&nbsp\;</span></p><p dir="ltr" style="line-height: 1.656\; text-align: left\; background-color: rgb(255\, 255\, 255)\; margin-top: 0pt\; margin-bottom: 0pt\; padding: 0pt 0pt 12pt\;"><span style="font-size:11pt\;font-family:Arial\,sans-serif\;color:#000000\;background-color:transparent\;font-weight:400\;font-style:normal\;font-variant:normal\;text-decoration:none\;vertical-align:baseline\;white-space:pre\;white-space:pre-wrap\;">4:30&ndash\;7:30 PM.&nbsp\;</span></p><p dir="ltr" style="line-height: 1.656\; text-align: left\; background-color: rgb(255\, 255\, 255)\; margin-top: 0pt\; margin-bottom: 0pt\; padding: 0pt 0pt 12pt\;"><a fr-original-style="text-decoration:none\;" href="https://www.facebook.com/events/1837994786866640" style="text-decoration: none\; user-select: auto\;"><span style="font-size:11pt\;font-family:Arial\,sans-serif\;color:#1155cc\;background-color:transparent\;font-weight:400\;font-style:normal\;font-variant:normal\;text-decoration:underline\;-webkit-text-decoration-skip:none\;text-decoration-skip-ink:none\;vertical-align:baseline\;white-space:pre\;white-space:pre-wrap\;">https://www.facebook.com/events/1837994786866640</span></a></p><p dir="ltr" style="line-height: 1.656\; text-align: left\; background-color: rgb(255\, 255\, 255)\; margin-top: 0pt\; margin-bottom: 0pt\; padding: 0pt 0pt 12pt\;"><span style="font-size:11pt\;font-family:Arial\,sans-serif\;color:#000000\;background-color:transparent\;font-weight:400\;font-style:normal\;font-variant:normal\;text-decoration:none\;vertical-align:baseline\;white-space:pre\;white-space:pre-wrap\;">Join the RIT Tiger Pride team for a fundraiser where 20% of all sales will be donated to the American Heart Association\, supporting lifesaving heart health research.</span></p><p dir="ltr" style="line-height: 1.656\; text-align: left\; background-color: rgb(255\, 255\, 255)\; margin-top: 0pt\; margin-bottom: 12pt\; padding: 0pt 0pt 12pt\;"><span style="font-size:11pt\;font-family:Arial\,sans-serif\;color:#000000\;background-color:transparent\;font-weight:400\;font-style:normal\;font-variant:normal\;text-decoration:none\;vertical-align:baseline\;white-space:pre\;white-space:pre-wrap\;">Enjoy wine on our beautiful patio\, sip with purpose\, and make a meaningful impact with every glass.</span></p></body></html>
LOCATION:262 Exchange Boulevard Rochester NY 14608
UID:e.2171.1448653
SEQUENCE:3
DTSTAMP:20260422T231726Z
URL:https://my.greaterrochesterchamber.com/communitycalendar/Details/raise-a-glass-for-a-great-cause-1715727?sourceTypeId=Hub
END:VEVENT
END:VCALENDAR
