BEGIN:VCALENDAR
VERSION:2.0
PRODID:-//ChamberMaster//Event Calendar 2.0//EN
METHOD:PUBLISH
X-PUBLISHED-TTL:P1H
REFRESH-INTERVAL:P1H
CALSCALE:GREGORIAN
BEGIN:VTIMEZONE
TZID:America/New_York
BEGIN:DAYLIGHT
RRULE:FREQ=YEARLY;BYMONTH=3;BYDAY=2SU
DTSTART:20070101T000000
TZOFFSETFROM:-0500
TZOFFSETTO:-0400
TZNAME:Eastern Daylight Time
END:DAYLIGHT
BEGIN:STANDARD
RRULE:FREQ=YEARLY;BYMONTH=11;BYDAY=1SU
DTSTART:20070101T000000
TZOFFSETFROM:-0400
TZOFFSETTO:-0500
TZNAME:Eastern Standard Time
END:STANDARD
END:VTIMEZONE
BEGIN:VEVENT
DTSTART;TZID=America/New_York:20260509T100000
DTEND;TZID=America/New_York:20260509T120000
X-MICROSOFT-CDO-ALLDAYEVENT:FALSE
SUMMARY:Sip\, Snip & Celebrate Mom at Flight Wine Bar
DESCRIPTION:Sip\, Snip & Celebrate Mom at Flight Wine Bar Saturday\, May 9th 10:00 am - 12:00 pm A One of a kind Mother's Day celebration filled with blooms\, bubbly and beautiful moments! Tickets $50 per person:https://www.eventbrite.com/e/sip-snip-celebrate-mom-tickets-1986992408783  What's included: - A guided bouquet making experience with Roses X Fleurs (Take your custom arrangement home). - Mimosa Bar and Mocktail options - Light Brunch Bites - A stylized photo experience to capture your memories - A card writing station to add a personal touch- Special take home treats.
X-ALT-DESC;FMTTYPE=text/html:<!DOCTYPE html><html><head><title></title></head><body aria-disabled="false"><p dir="ltr" style="line-height: 1.656\; text-align: left\; background-color: rgb(255\, 255\, 255)\; margin-top: 0pt\; margin-bottom: 0pt\;"><span style="font-size:11pt\;font-family:Arial\,sans-serif\;color:#000000\;background-color:transparent\;font-weight:400\;font-style:normal\;font-variant:normal\;text-decoration:none\;vertical-align:baseline\;white-space:pre\;white-space:pre-wrap\;">Sip\, Snip &amp\; Celebrate Mom at Flight Wine Bar&nbsp\;</span></p><p dir="ltr" style="line-height: 1.656\; text-align: left\; background-color: rgb(255\, 255\, 255)\; margin-top: 0pt\; margin-bottom: 0pt\;"><span style="font-size:11pt\;font-family:Arial\,sans-serif\;color:#000000\;background-color:transparent\;font-weight:400\;font-style:normal\;font-variant:normal\;text-decoration:none\;vertical-align:baseline\;white-space:pre\;white-space:pre-wrap\;">Saturday\, May 9th&nbsp\;</span></p><p dir="ltr" style="line-height: 1.656\; text-align: left\; background-color: rgb(255\, 255\, 255)\; margin-top: 0pt\; margin-bottom: 0pt\;"><span style="font-size:11pt\;font-family:Arial\,sans-serif\;color:#000000\;background-color:transparent\;font-weight:400\;font-style:normal\;font-variant:normal\;text-decoration:none\;vertical-align:baseline\;white-space:pre\;white-space:pre-wrap\;">10:00 am - 12:00 pm&nbsp\;</span></p><p dir="ltr" style="line-height: 1.656\; text-align: left\; background-color: rgb(255\, 255\, 255)\; margin-top: 0pt\; margin-bottom: 0pt\;"><span style="font-size:11pt\;font-family:Arial\,sans-serif\;color:#000000\;background-color:transparent\;font-weight:400\;font-style:normal\;font-variant:normal\;text-decoration:none\;vertical-align:baseline\;white-space:pre\;white-space:pre-wrap\;">A One of a kind Mother&rsquo\;s Day celebration filled with blooms\, bubbly and beautiful moments!&nbsp\;</span></p><p dir="ltr" style="line-height: 1.656\; text-align: left\; background-color: rgb(255\, 255\, 255)\; margin-top: 0pt\; margin-bottom: 0pt\;"><span style="font-size:11pt\;font-family:Arial\,sans-serif\;color:#000000\;background-color:transparent\;font-weight:400\;font-style:normal\;font-variant:normal\;text-decoration:none\;vertical-align:baseline\;white-space:pre\;white-space:pre-wrap\;">Tickets $50 per person:</span></p><p dir="ltr" style="line-height: 1.656\; text-align: left\; background-color: rgb(255\, 255\, 255)\; margin-top: 0pt\; margin-bottom: 0pt\;"><a fr-original-style="text-decoration:none\;" href="https://www.eventbrite.com/e/sip-snip-celebrate-mom-tickets-1986992408783" style="text-decoration: none\; user-select: auto\;"><span style="font-size:11pt\;font-family:Arial\,sans-serif\;color:#1155cc\;background-color:transparent\;font-weight:400\;font-style:normal\;font-variant:normal\;text-decoration:underline\;-webkit-text-decoration-skip:none\;text-decoration-skip-ink:none\;vertical-align:baseline\;white-space:pre\;white-space:pre-wrap\;">https://www.eventbrite.com/e/sip-snip-celebrate-mom-tickets-1986992408783</span></a><span style="font-size:11pt\;font-family:Arial\,sans-serif\;color:#242424\;background-color:transparent\;font-weight:400\;font-style:normal\;font-variant:normal\;text-decoration:none\;vertical-align:baseline\;white-space:pre\;white-space:pre-wrap\;">&nbsp\;</span><span style="font-size:11pt\;font-family:Arial\,sans-serif\;color:#000000\;background-color:transparent\;font-weight:400\;font-style:normal\;font-variant:normal\;text-decoration:none\;vertical-align:baseline\;white-space:pre\;white-space:pre-wrap\;">&nbsp\;</span></p><p dir="ltr" style="line-height: 1.656\; text-align: left\; background-color: rgb(255\, 255\, 255)\; margin-top: 0pt\; margin-bottom: 0pt\;"><span style="font-size:11pt\;font-family:Arial\,sans-serif\;color:#000000\;background-color:transparent\;font-weight:400\;font-style:normal\;font-variant:normal\;text-decoration:none\;vertical-align:baseline\;white-space:pre\;white-space:pre-wrap\;">What&rsquo\;s included:&nbsp\;</span></p><p dir="ltr" style="line-height: 1.656\; text-align: left\; background-color: rgb(255\, 255\, 255)\; margin-top: 0pt\; margin-bottom: 0pt\;"><span style="font-size:11pt\;font-family:Arial\,sans-serif\;color:#000000\;background-color:transparent\;font-weight:400\;font-style:normal\;font-variant:normal\;text-decoration:none\;vertical-align:baseline\;white-space:pre\;white-space:pre-wrap\;">- A guided bouquet making experience with Roses X Fleurs (Take your custom arrangement home).&nbsp\;</span></p><p dir="ltr" style="line-height: 1.656\; text-align: left\; background-color: rgb(255\, 255\, 255)\; margin-top: 0pt\; margin-bottom: 0pt\;"><span style="font-size:11pt\;font-family:Arial\,sans-serif\;color:#000000\;background-color:transparent\;font-weight:400\;font-style:normal\;font-variant:normal\;text-decoration:none\;vertical-align:baseline\;white-space:pre\;white-space:pre-wrap\;">- Mimosa Bar and Mocktail options&nbsp\;</span></p><p dir="ltr" style="line-height: 1.656\; text-align: left\; background-color: rgb(255\, 255\, 255)\; margin-top: 0pt\; margin-bottom: 0pt\;"><span style="font-size:11pt\;font-family:Arial\,sans-serif\;color:#000000\;background-color:transparent\;font-weight:400\;font-style:normal\;font-variant:normal\;text-decoration:none\;vertical-align:baseline\;white-space:pre\;white-space:pre-wrap\;">- Light Brunch Bites&nbsp\;</span></p><p dir="ltr" style="line-height: 1.656\; text-align: left\; background-color: rgb(255\, 255\, 255)\; margin-top: 0pt\; margin-bottom: 0pt\;"><span style="font-size:11pt\;font-family:Arial\,sans-serif\;color:#000000\;background-color:transparent\;font-weight:400\;font-style:normal\;font-variant:normal\;text-decoration:none\;vertical-align:baseline\;white-space:pre\;white-space:pre-wrap\;">- A stylized photo experience to capture your memories&nbsp\;</span></p><p dir="ltr" style="line-height: 1.656\; text-align: left\; background-color: rgb(255\, 255\, 255)\; margin-top: 0pt\; margin-bottom: 0pt\;"><span style="font-size:11pt\;font-family:Arial\,sans-serif\;color:#000000\;background-color:transparent\;font-weight:400\;font-style:normal\;font-variant:normal\;text-decoration:none\;vertical-align:baseline\;white-space:pre\;white-space:pre-wrap\;">- A card writing station to add a personal touch</span></p><p dir="ltr" style="line-height: 1.656\; text-align: left\; background-color: rgb(255\, 255\, 255)\; margin-top: 0pt\; margin-bottom: 0pt\; padding: 0pt 0pt 12pt\;"><span style="font-size:11pt\;font-family:Arial\,sans-serif\;color:#000000\;background-color:transparent\;font-weight:400\;font-style:normal\;font-variant:normal\;text-decoration:none\;vertical-align:baseline\;white-space:pre\;white-space:pre-wrap\;">- Special take home treats. </span></p></body></html>
LOCATION:262 Exchange Boulevard Rochester NY 14608
UID:e.2171.1448637
SEQUENCE:3
DTSTAMP:20260422T231849Z
URL:https://my.greaterrochesterchamber.com/communitycalendar/Details/sip-snip-celebrate-mom-at-flight-wine-bar-1715705?sourceTypeId=Hub
END:VEVENT
END:VCALENDAR
